BEGIN:VCALENDAR
VERSION:2.0
PRODID:-//Theater im Palais - ECPv6.15.20//NONSGML v1.0//EN
CALSCALE:GREGORIAN
METHOD:PUBLISH
X-WR-CALNAME:Theater im Palais
X-ORIGINAL-URL:https://www.theater-im-palais.de
X-WR-CALDESC:Veranstaltungen für Theater im Palais
REFRESH-INTERVAL;VALUE=DURATION:PT1H
X-Robots-Tag:noindex
X-PUBLISHED-TTL:PT1H
BEGIN:VTIMEZONE
TZID:Europe/Berlin
BEGIN:DAYLIGHT
TZOFFSETFROM:+0100
TZOFFSETTO:+0200
TZNAME:CEST
DTSTART:20250330T010000
END:DAYLIGHT
BEGIN:STANDARD
TZOFFSETFROM:+0200
TZOFFSETTO:+0100
TZNAME:CET
DTSTART:20251026T010000
END:STANDARD
BEGIN:DAYLIGHT
TZOFFSETFROM:+0100
TZOFFSETTO:+0200
TZNAME:CEST
DTSTART:20260329T010000
END:DAYLIGHT
BEGIN:STANDARD
TZOFFSETFROM:+0200
TZOFFSETTO:+0100
TZNAME:CET
DTSTART:20261025T010000
END:STANDARD
BEGIN:DAYLIGHT
TZOFFSETFROM:+0100
TZOFFSETTO:+0200
TZNAME:CEST
DTSTART:20270328T010000
END:DAYLIGHT
BEGIN:STANDARD
TZOFFSETFROM:+0200
TZOFFSETTO:+0100
TZNAME:CET
DTSTART:20271031T010000
END:STANDARD
END:VTIMEZONE
BEGIN:VEVENT
DTSTART;TZID=Europe/Berlin:20260425T193000
DTEND;TZID=Europe/Berlin:20260425T193000
DTSTAMP:20260425T130534
CREATED:20250408T200726Z
LAST-MODIFIED:20260220T103820Z
UID:9661-1777145400-1777145400@www.theater-im-palais.de
SUMMARY:ADAM SCHAF HAT ANGST
DESCRIPTION:zurückBesetzung\nDENNIS WEISSERT (Spiel\, Gesang)\nBIJAN AZADIAN (Klavier)\nRegie\nDENNIS WEISSERT\nMusikalische Leitung\nBIJAN AZADIAN\nProduktionsleitung\nALINA LIESKE\nBühnenbild\, Maske\nLAURA JAMMOUL\nBühnenbild\, Kostümbildassistenz:\nSOPHIA DAFFNER\nRegieassistenz:\nLUNA BOUKEZZOULA\nLichtdesign:\nLUCAS MÜLLER\nLORENZ REIMANN\nSounddesign:\nLUCAS MÜLLER\nOriginalverlag: JOSEF WEINBERGER\nBühnenvertrieb: MUSIK UND BÜHNE Verlagsgesellschaft mbH\, Wiesbaden\nDie nächsten Aufführungen\n\n	\n\n\n\n	\n	\n\n		\n			 Beginn: \n			\n				 10.06. | Mi. \n			\n\n			 Ende: \n			\n				 14.06. | So. \n			\n\n		\n		\n		  \n\n		\n		\n			\n\n\n\n	\n\n\n\nADAM SCHAF HAT ANGST\nMusical in zwei Akten für einen Schauspieler von Georg Kreisler\nAdam Schaf ist ein tieftrauriger Mensch. Dass er lustige Lieder singt\, ist der beste Beweis für seine Traurigkeit – so Georg Kreisler über seinen Titelhelden. \nAus Schafs Erinnerungen an seinen mühsamen Weg aus dem Krieg heraus entsteht eine zynische Bestandsaufnahme des Deutschlands von gestern und heute – mit Schärfe und Humor. Wie das Leben selbst ist dieser Theaterabend eine wahre Gratwanderung zwischen Absturz und Hoffnung\, zwischen Appell und Grabrede oder wie der Autor selbst sagt: „Wir alle haben Angst! Aber wir leben! Irgendwie!“\nDer Berliner Sänger und Schauspieler Dennis Weissert erforscht in seiner Interpretation von Kreislers Singspiel unser heutiges Verhältnis zur Nachkriegszeit und zieht damit Parallelen zwischen zwei stark durch Existenzängste geprägte Realitäten. Dabei spannt er den Bogen von der deutschen Kabarett-Tradition bis zum Glamour des amerikanischen Broadway und katapultiert sein Publikum in eine skurrile Zwischenwelt.
URL:https://www.theater-im-palais.de/event/adam-schaf-hat-angst/2026-04-25/
CATEGORIES:Repertoire
ATTACH;FMTTYPE=image/jpeg:https://www.theater-im-palais.de/wp-content/uploads/2025/04/Adam-Schaf-hat-Angst-scaled.jpg
END:VEVENT
END:VCALENDAR